Package: signeR Version: 2.13.0 Command: /home/biocbuild/bbs-3.23-bioc/R/bin/R CMD build --keep-empty-dirs --no-resave-data signeR StartedAt: 2025-11-05 20:05:25 -0500 (Wed, 05 Nov 2025) EndedAt: 2025-11-05 20:10:04 -0500 (Wed, 05 Nov 2025) EllapsedTime: 279.3 seconds RetCode: 0 Status: OK PackageFile: signeR_2.13.0.tar.gz PackageFileSize: 4.237 MiB