Package: signeR Version: 2.11.2 Command: /Library/Frameworks/R.framework/Resources/bin/R CMD build --keep-empty-dirs --no-resave-data signeR StartedAt: 2025-10-15 19:27:43 -0400 (Wed, 15 Oct 2025) EndedAt: 2025-10-15 19:34:09 -0400 (Wed, 15 Oct 2025) EllapsedTime: 385.9 seconds RetCode: 0 Status: OK PackageFile: signeR_2.11.2.tar.gz PackageFileSize: 2.413 MiB