Package: signeR Version: 2.11.2 Command: rm -rf signeR.buildbin-libdir && mkdir signeR.buildbin-libdir && /Users/biocbuild/BBS/utils/build-universal.sh signeR_2.11.2.tar.gz /Library/Frameworks/R.framework/Resources/bin/R signeR.buildbin-libdir StartedAt: 2025-10-16 03:18:11 -0400 (Thu, 16 Oct 2025) EndedAt: 2025-10-16 03:20:11 -0400 (Thu, 16 Oct 2025) EllapsedTime: 119.3 seconds RetCode: 0 Status: OK PackageFile: signeR_2.11.2.tgz PackageFileSize: 2.509 MiB