Package: signatureSearch Version: 1.23.0 Command: /home/biocbuild/R/R/bin/R CMD build --keep-empty-dirs --no-resave-data signatureSearch StartedAt: 2025-10-21 03:10:40 -0000 (Tue, 21 Oct 2025) EndedAt: 2025-10-21 03:28:44 -0000 (Tue, 21 Oct 2025) EllapsedTime: 1084.4 seconds RetCode: 0 Status: OK PackageFile: signatureSearch_1.23.0.tar.gz PackageFileSize: 5.12 MiB