Package: signatureSearch Version: 1.23.0 Command: /home/biocbuild/bbs-3.22-bioc/R/bin/R CMD check --install=check:signatureSearch.install-out.txt --library=/home/biocbuild/bbs-3.22-bioc/R/site-library --timings signatureSearch_1.23.0.tar.gz StartedAt: 2025-10-17 05:51:45 -0400 (Fri, 17 Oct 2025) EndedAt: 2025-10-17 06:11:16 -0400 (Fri, 17 Oct 2025) EllapsedTime: 1171.0 seconds RetCode: 0 Status: OK CheckDir: signatureSearch.Rcheck Warnings: 0