Package: signatureSearch Version: 1.25.0 Command: /home/biocbuild/bbs-3.23-bioc/R/bin/R CMD INSTALL signatureSearch StartedAt: 2025-11-05 15:55:25 -0500 (Wed, 05 Nov 2025) EndedAt: 2025-11-05 15:57:08 -0500 (Wed, 05 Nov 2025) EllapsedTime: 102.7 seconds RetCode: 0 Status: OK