Package: signatureSearch Version: 1.25.0 Command: /home/biocbuild/bbs-3.23-bioc/R/bin/R CMD build --keep-empty-dirs --no-resave-data signatureSearch StartedAt: 2025-11-05 20:05:24 -0500 (Wed, 05 Nov 2025) EndedAt: 2025-11-05 20:17:16 -0500 (Wed, 05 Nov 2025) EllapsedTime: 711.7 seconds RetCode: 0 Status: OK PackageFile: signatureSearch_1.25.0.tar.gz PackageFileSize: 5.223 MiB