Package: signatureSearch Version: 1.23.0 Command: /Library/Frameworks/R.framework/Resources/bin/R CMD INSTALL signatureSearch StartedAt: 2025-09-29 15:41:40 -0400 (Mon, 29 Sep 2025) EndedAt: 2025-09-29 15:44:12 -0400 (Mon, 29 Sep 2025) EllapsedTime: 152.1 seconds RetCode: 0 Status: OK