Package: sights Version: 1.37.0 Command: /home/biocbuild/bbs-3.23-bioc/R/bin/R CMD INSTALL sights StartedAt: 2025-11-20 15:07:23 -0500 (Thu, 20 Nov 2025) EndedAt: 2025-11-20 15:07:51 -0500 (Thu, 20 Nov 2025) EllapsedTime: 28.3 seconds RetCode: 0 Status: OK