Package: sights Version: 1.35.0 Command: /Library/Frameworks/R.framework/Resources/bin/R CMD INSTALL sights StartedAt: 2025-10-28 15:04:39 -0400 (Tue, 28 Oct 2025) EndedAt: 2025-10-28 15:04:56 -0400 (Tue, 28 Oct 2025) EllapsedTime: 17.1 seconds RetCode: 0 Status: OK