Package: sights Version: 1.35.0 Command: /Library/Frameworks/R.framework/Resources/bin/R CMD build --keep-empty-dirs --no-resave-data sights StartedAt: 2025-10-28 17:44:08 -0400 (Tue, 28 Oct 2025) EndedAt: 2025-10-28 17:44:22 -0400 (Tue, 28 Oct 2025) EllapsedTime: 14.2 seconds RetCode: 0 Status: OK PackageFile: sights_1.35.0.tar.gz PackageFileSize: 5.81 MiB