Package: sights Version: 1.35.0 Command: rm -rf sights.buildbin-libdir && mkdir sights.buildbin-libdir && /Users/biocbuild/BBS/utils/build-universal.sh sights_1.35.0.tar.gz /Library/Frameworks/R.framework/Resources/bin/R sights.buildbin-libdir StartedAt: 2025-10-28 23:16:30 -0400 (Tue, 28 Oct 2025) EndedAt: 2025-10-28 23:16:33 -0400 (Tue, 28 Oct 2025) EllapsedTime: 3.1 seconds RetCode: 0 Status: OK PackageFile: sights_1.35.0.tgz PackageFileSize: 3.666 MiB