Package: siggenes Version: 1.85.0 Command: /home/biocbuild/bbs-3.23-bioc/R/bin/R CMD INSTALL siggenes StartedAt: 2025-11-03 15:12:00 -0500 (Mon, 03 Nov 2025) EndedAt: 2025-11-03 15:12:11 -0500 (Mon, 03 Nov 2025) EllapsedTime: 11.3 seconds RetCode: 0 Status: OK