Package: siggenes Version: 1.85.0 Command: /home/biocbuild/bbs-3.23-bioc/R/bin/R CMD build --keep-empty-dirs --no-resave-data siggenes StartedAt: 2025-11-03 19:55:12 -0500 (Mon, 03 Nov 2025) EndedAt: 2025-11-03 19:55:37 -0500 (Mon, 03 Nov 2025) EllapsedTime: 25.0 seconds RetCode: 0 Status: OK PackageFile: siggenes_1.85.0.tar.gz PackageFileSize: 744.8 KiB