Package: siggenes Version: 1.85.0 Command: /Library/Frameworks/R.framework/Resources/bin/R CMD INSTALL siggenes StartedAt: 2025-11-21 15:19:14 -0500 (Fri, 21 Nov 2025) EndedAt: 2025-11-21 15:19:32 -0500 (Fri, 21 Nov 2025) EllapsedTime: 17.6 seconds RetCode: 0 Status: OK