Package: siggenes Version: 1.85.0 Command: rm -rf siggenes.buildbin-libdir && mkdir siggenes.buildbin-libdir && /Users/biocbuild/BBS/utils/build-universal.sh siggenes_1.85.0.tar.gz /Library/Frameworks/R.framework/Resources/bin/R siggenes.buildbin-libdir StartedAt: 2025-11-22 01:58:07 -0500 (Sat, 22 Nov 2025) EndedAt: 2025-11-22 01:58:27 -0500 (Sat, 22 Nov 2025) EllapsedTime: 19.7 seconds RetCode: 0 Status: OK PackageFile: siggenes_1.85.0.tgz PackageFileSize: 1.228 MiB