Package: siggenes Version: 1.85.0 Command: /Library/Frameworks/R.framework/Resources/bin/R CMD INSTALL siggenes StartedAt: 2025-11-20 15:06:50 -0500 (Thu, 20 Nov 2025) EndedAt: 2025-11-20 15:06:54 -0500 (Thu, 20 Nov 2025) EllapsedTime: 4.6 seconds RetCode: 0 Status: OK