Package: siggenes Version: 1.85.0 Command: /Library/Frameworks/R.framework/Resources/bin/R CMD build --keep-empty-dirs --no-resave-data siggenes StartedAt: 2025-11-20 17:41:51 -0500 (Thu, 20 Nov 2025) EndedAt: 2025-11-20 17:42:03 -0500 (Thu, 20 Nov 2025) EllapsedTime: 12.1 seconds RetCode: 0 Status: OK PackageFile: siggenes_1.85.0.tar.gz PackageFileSize: 744.8 KiB