Package: siggenes Version: 1.85.0 Command: rm -rf siggenes.buildbin-libdir && mkdir siggenes.buildbin-libdir && /Users/biocbuild/BBS/utils/build-universal.sh siggenes_1.85.0.tar.gz /Library/Frameworks/R.framework/Resources/bin/R siggenes.buildbin-libdir StartedAt: 2025-11-20 23:52:38 -0500 (Thu, 20 Nov 2025) EndedAt: 2025-11-20 23:52:44 -0500 (Thu, 20 Nov 2025) EllapsedTime: 6.1 seconds RetCode: 0 Status: OK PackageFile: siggenes_1.85.0.tgz PackageFileSize: 1.233 MiB