Package: sigFeature Version: 1.27.0 Command: chmod a+r sigFeature -R && F:\biocbuild\bbs-3.22-bioc\R\bin\R.exe CMD build --keep-empty-dirs --no-resave-data sigFeature StartedAt: 2025-08-14 23:17:12 -0400 (Thu, 14 Aug 2025) EndedAt: 2025-08-14 23:18:13 -0400 (Thu, 14 Aug 2025) EllapsedTime: 61.1 seconds RetCode: 0 Status: OK PackageFile: sigFeature_1.27.0.tar.gz PackageFileSize: 263.8 KiB