Package: sigFeature Version: 1.27.0 Command: rm -rf sigFeature.buildbin-libdir && mkdir sigFeature.buildbin-libdir && F:\biocbuild\bbs-3.22-bioc\R\bin\R.exe CMD INSTALL --build --library=sigFeature.buildbin-libdir sigFeature_1.27.0.tar.gz StartedAt: 2025-08-15 11:19:30 -0400 (Fri, 15 Aug 2025) EndedAt: 2025-08-15 11:20:16 -0400 (Fri, 15 Aug 2025) EllapsedTime: 46.1 seconds RetCode: 0 Status: OK PackageFile: sigFeature_1.27.0.zip PackageFileSize: 400.7 KiB