Package: sigFeature Version: 1.29.0 Command: /home/biocbuild/bbs-3.23-bioc/R/bin/R CMD INSTALL sigFeature StartedAt: 2025-11-05 15:28:17 -0500 (Wed, 05 Nov 2025) EndedAt: 2025-11-05 15:28:42 -0500 (Wed, 05 Nov 2025) EllapsedTime: 24.9 seconds RetCode: 0 Status: OK