Package: sigFeature Version: 1.29.0 Command: /home/biocbuild/bbs-3.23-bioc/R/bin/R CMD check --install=check:sigFeature.install-out.txt --library=/home/biocbuild/bbs-3.23-bioc/R/site-library --timings sigFeature_1.29.0.tar.gz StartedAt: 2025-11-06 03:54:05 -0500 (Thu, 06 Nov 2025) EndedAt: 2025-11-06 03:57:28 -0500 (Thu, 06 Nov 2025) EllapsedTime: 203.3 seconds RetCode: 0 Status: WARNINGS CheckDir: sigFeature.Rcheck Warnings: 1