Package: sigFeature Version: 1.29.0 Command: /home/biocbuild/bbs-3.23-bioc/R/bin/R CMD build --keep-empty-dirs --no-resave-data sigFeature StartedAt: 2025-11-05 20:04:48 -0500 (Wed, 05 Nov 2025) EndedAt: 2025-11-05 20:05:25 -0500 (Wed, 05 Nov 2025) EllapsedTime: 37.0 seconds RetCode: 0 Status: OK PackageFile: sigFeature_1.29.0.tar.gz PackageFileSize: 369.5 KiB