Package: shinyepico Version: 1.19.0 Command: /home/biocbuild/bbs-3.23-bioc/R/bin/R CMD INSTALL shinyepico StartedAt: 2025-11-05 15:49:57 -0500 (Wed, 05 Nov 2025) EndedAt: 2025-11-05 15:50:02 -0500 (Wed, 05 Nov 2025) EllapsedTime: 5.1 seconds RetCode: 0 Status: OK