Package: shinyepico Version: 1.17.0 Command: /Library/Frameworks/R.framework/Resources/bin/R CMD INSTALL shinyepico StartedAt: 2025-10-03 15:37:25 -0400 (Fri, 03 Oct 2025) EndedAt: 2025-10-03 15:37:34 -0400 (Fri, 03 Oct 2025) EllapsedTime: 8.1 seconds RetCode: 0 Status: OK