Package: shinyepico Version: 1.17.0 Command: /Library/Frameworks/R.framework/Resources/bin/R CMD build --keep-empty-dirs --no-resave-data shinyepico StartedAt: 2025-10-03 19:01:57 -0400 (Fri, 03 Oct 2025) EndedAt: 2025-10-03 19:02:12 -0400 (Fri, 03 Oct 2025) EllapsedTime: 14.9 seconds RetCode: 0 Status: OK PackageFile: shinyepico_1.17.0.tar.gz PackageFileSize: 2.248 MiB