Package: shinybiocloader Version: 0.99.1 Command: /home/biocbuild/R/R/bin/R CMD INSTALL shinybiocloader StartedAt: 2025-10-02 20:25:35 -0000 (Thu, 02 Oct 2025) EndedAt: 2025-10-02 20:26:39 -0000 (Thu, 02 Oct 2025) EllapsedTime: 63.2 seconds RetCode: 0 Status: OK