Package: shinybiocloader Version: 0.99.1 Command: /home/biocbuild/R/R/bin/R CMD check --install=check:shinybiocloader.install-out.txt --library=/home/biocbuild/R/R/site-library --no-vignettes --timings shinybiocloader_0.99.1.tar.gz StartedAt: 2025-10-03 11:35:04 -0000 (Fri, 03 Oct 2025) EndedAt: 2025-10-03 11:35:36 -0000 (Fri, 03 Oct 2025) EllapsedTime: 32.1 seconds RetCode: 0 Status: OK CheckDir: shinybiocloader.Rcheck Warnings: 0