Package: shinybiocloader Version: 0.99.1 Command: /home/biocbuild/R/R/bin/R CMD build --keep-empty-dirs --no-resave-data shinybiocloader StartedAt: 2025-10-03 03:12:01 -0000 (Fri, 03 Oct 2025) EndedAt: 2025-10-03 03:12:13 -0000 (Fri, 03 Oct 2025) EllapsedTime: 12.0 seconds RetCode: 0 Status: OK PackageFile: shinybiocloader_0.99.1.tar.gz PackageFileSize: 28.65 KiB