Package: shinybiocloader Version: 0.99.1 Command: /home/biocbuild/bbs-3.22-bioc/R/bin/R CMD INSTALL shinybiocloader StartedAt: 2025-10-03 15:07:09 -0400 (Fri, 03 Oct 2025) EndedAt: 2025-10-03 15:07:38 -0400 (Fri, 03 Oct 2025) EllapsedTime: 29.1 seconds RetCode: 0 Status: OK