Package: shinybiocloader Version: 0.99.1 Command: /home/biocbuild/bbs-3.22-bioc/R/bin/R CMD check --install=check:shinybiocloader.install-out.txt --library=/home/biocbuild/bbs-3.22-bioc/R/site-library --timings shinybiocloader_0.99.1.tar.gz StartedAt: 2025-10-04 04:14:11 -0400 (Sat, 04 Oct 2025) EndedAt: 2025-10-04 04:14:51 -0400 (Sat, 04 Oct 2025) EllapsedTime: 40.0 seconds RetCode: 0 Status: OK CheckDir: shinybiocloader.Rcheck Warnings: 0