Package: shinybiocloader Version: 0.99.1 Command: /home/biocbuild/bbs-3.22-bioc/R/bin/R CMD build --keep-empty-dirs --no-resave-data --md5 shinybiocloader StartedAt: 2025-10-03 20:02:24 -0400 (Fri, 03 Oct 2025) EndedAt: 2025-10-03 20:02:33 -0400 (Fri, 03 Oct 2025) EllapsedTime: 9.0 seconds RetCode: 0 Status: OK PackageFile: shinybiocloader_0.99.1.tar.gz PackageFileSize: 29.34 KiB