Package: shinybiocloader Version: 1.1.0 Command: /home/biocbuild/bbs-3.23-bioc/R/bin/R CMD INSTALL shinybiocloader StartedAt: 2025-10-31 15:16:02 -0400 (Fri, 31 Oct 2025) EndedAt: 2025-10-31 15:16:37 -0400 (Fri, 31 Oct 2025) EllapsedTime: 35.0 seconds RetCode: 0 Status: OK