Package: shinybiocloader Version: 1.1.0 Command: /home/biocbuild/bbs-3.23-bioc/R/bin/R CMD check --install=check:shinybiocloader.install-out.txt --library=/home/biocbuild/bbs-3.23-bioc/R/site-library --timings shinybiocloader_1.1.0.tar.gz StartedAt: 2025-11-01 03:31:23 -0400 (Sat, 01 Nov 2025) EndedAt: 2025-11-01 03:31:53 -0400 (Sat, 01 Nov 2025) EllapsedTime: 30.1 seconds RetCode: 0 Status: OK CheckDir: shinybiocloader.Rcheck Warnings: 0