Package: shinybiocloader Version: 1.1.0 Command: /home/biocbuild/bbs-3.23-bioc/R/bin/R CMD build --keep-empty-dirs --no-resave-data shinybiocloader StartedAt: 2025-10-31 20:10:59 -0400 (Fri, 31 Oct 2025) EndedAt: 2025-10-31 20:11:08 -0400 (Fri, 31 Oct 2025) EllapsedTime: 9.0 seconds RetCode: 0 Status: OK PackageFile: shinybiocloader_1.1.0.tar.gz PackageFileSize: 28.71 KiB