Package: shinybiocloader Version: 0.99.1 Command: /Library/Frameworks/R.framework/Resources/bin/R CMD INSTALL shinybiocloader StartedAt: 2025-10-03 15:09:31 -0400 (Fri, 03 Oct 2025) EndedAt: 2025-10-03 15:10:14 -0400 (Fri, 03 Oct 2025) EllapsedTime: 43.1 seconds RetCode: 0 Status: OK