Package: shinybiocloader Version: 0.99.1 Command: /Library/Frameworks/R.framework/Resources/bin/R CMD check --install=check:shinybiocloader.install-out.txt --library=/Library/Frameworks/R.framework/Resources/library --no-vignettes --timings shinybiocloader_0.99.1.tar.gz StartedAt: 2025-10-04 00:41:25 -0400 (Sat, 04 Oct 2025) EndedAt: 2025-10-04 00:42:07 -0400 (Sat, 04 Oct 2025) EllapsedTime: 42.5 seconds RetCode: 0 Status: OK CheckDir: shinybiocloader.Rcheck Warnings: 0