Package: shinybiocloader Version: 0.99.1 Command: /Library/Frameworks/R.framework/Resources/bin/R CMD build --keep-empty-dirs --no-resave-data shinybiocloader StartedAt: 2025-10-03 19:01:54 -0400 (Fri, 03 Oct 2025) EndedAt: 2025-10-03 19:02:09 -0400 (Fri, 03 Oct 2025) EllapsedTime: 14.9 seconds RetCode: 0 Status: OK PackageFile: shinybiocloader_0.99.1.tar.gz PackageFileSize: 28.81 KiB