Package: shinybiocloader Version: 0.99.1 Command: rm -rf shinybiocloader.buildbin-libdir && mkdir shinybiocloader.buildbin-libdir && /Users/biocbuild/BBS/utils/build-universal.sh shinybiocloader_0.99.1.tar.gz /Library/Frameworks/R.framework/Resources/bin/R shinybiocloader.buildbin-libdir StartedAt: 2025-10-04 02:29:58 -0400 (Sat, 04 Oct 2025) EndedAt: 2025-10-04 02:30:04 -0400 (Sat, 04 Oct 2025) EllapsedTime: 6.8 seconds RetCode: 0 Status: OK PackageFile: shinybiocloader_0.99.1.tgz PackageFileSize: 37.68 KiB