Package: shinyMethyl Version: 1.47.0 Command: /home/biocbuild/bbs-3.23-bioc/R/bin/R CMD INSTALL shinyMethyl StartedAt: 2025-10-31 15:56:29 -0400 (Fri, 31 Oct 2025) EndedAt: 2025-10-31 15:57:14 -0400 (Fri, 31 Oct 2025) EllapsedTime: 45.3 seconds RetCode: 0 Status: OK