Package: shinyMethyl Version: 1.45.0 Command: /Library/Frameworks/R.framework/Resources/bin/R CMD INSTALL shinyMethyl StartedAt: 2025-10-09 15:37:32 -0400 (Thu, 09 Oct 2025) EndedAt: 2025-10-09 15:38:35 -0400 (Thu, 09 Oct 2025) EllapsedTime: 63.0 seconds RetCode: 0 Status: OK