Package: shinyMethyl Version: 1.45.0 Command: /Library/Frameworks/R.framework/Resources/bin/R CMD build --keep-empty-dirs --no-resave-data shinyMethyl StartedAt: 2025-10-09 19:09:20 -0400 (Thu, 09 Oct 2025) EndedAt: 2025-10-09 19:10:43 -0400 (Thu, 09 Oct 2025) EllapsedTime: 83.5 seconds RetCode: 0 Status: OK PackageFile: shinyMethyl_1.45.0.tar.gz PackageFileSize: 7.24 MiB