Package: shinyDSP Version: 1.1.2 Command: /home/biocbuild/R/R/bin/R CMD build --keep-empty-dirs --no-resave-data shinyDSP StartedAt: 2025-09-26 03:21:13 -0000 (Fri, 26 Sep 2025) EndedAt: 2025-09-26 03:27:49 -0000 (Fri, 26 Sep 2025) EllapsedTime: 395.2 seconds RetCode: 0 Status: OK PackageFile: shinyDSP_1.1.2.tar.gz PackageFileSize: 2.486 MiB