Package: shinyDSP Version: 1.1.2 Command: rm -rf shinyDSP.buildbin-libdir && mkdir shinyDSP.buildbin-libdir && F:\biocbuild\bbs-3.22-bioc\R\bin\R.exe CMD INSTALL --build --library=shinyDSP.buildbin-libdir shinyDSP_1.1.2.tar.gz StartedAt: 2025-08-15 11:19:06 -0400 (Fri, 15 Aug 2025) EndedAt: 2025-08-15 11:20:11 -0400 (Fri, 15 Aug 2025) EllapsedTime: 64.5 seconds RetCode: 0 Status: OK PackageFile: shinyDSP_1.1.2.zip PackageFileSize: 1.39 MiB