Package: shinyDSP Version: 1.3.0 Command: /home/biocbuild/bbs-3.23-bioc/R/bin/R CMD check --install=check:shinyDSP.install-out.txt --library=/home/biocbuild/bbs-3.23-bioc/R/site-library --timings shinyDSP_1.3.0.tar.gz StartedAt: 2025-11-21 03:56:59 -0500 (Fri, 21 Nov 2025) EndedAt: 2025-11-21 04:06:25 -0500 (Fri, 21 Nov 2025) EllapsedTime: 565.8 seconds RetCode: 0 Status: OK CheckDir: shinyDSP.Rcheck Warnings: 0