Package: shinyDSP Version: 1.3.0 Command: /home/biocbuild/bbs-3.23-bioc/R/bin/R CMD build --keep-empty-dirs --no-resave-data shinyDSP StartedAt: 2025-11-20 20:03:47 -0500 (Thu, 20 Nov 2025) EndedAt: 2025-11-20 20:09:00 -0500 (Thu, 20 Nov 2025) EllapsedTime: 313.3 seconds RetCode: 0 Status: OK PackageFile: shinyDSP_1.3.0.tar.gz PackageFileSize: 2.679 MiB