Package: shiny.gosling Version: 1.7.0 Command: /home/biocbuild/bbs-3.23-bioc/R/bin/R CMD build --keep-empty-dirs --no-resave-data shiny.gosling StartedAt: 2025-11-07 20:00:00 -0500 (Fri, 07 Nov 2025) EndedAt: 2025-11-07 20:00:26 -0500 (Fri, 07 Nov 2025) EllapsedTime: 26.0 seconds RetCode: 1 Status: ERROR PackageFile: None PackageFileSize: NA