Package: shiny.gosling Version: 1.5.0 Command: /Library/Frameworks/R.framework/Resources/bin/R CMD INSTALL shiny.gosling StartedAt: 2025-10-12 15:05:24 -0400 (Sun, 12 Oct 2025) EndedAt: 2025-10-12 15:05:28 -0400 (Sun, 12 Oct 2025) EllapsedTime: 4.1 seconds RetCode: 0 Status: OK