Package: shiny.gosling Version: 1.5.0 Command: /Library/Frameworks/R.framework/Resources/bin/R CMD build --keep-empty-dirs --no-resave-data shiny.gosling StartedAt: 2025-10-12 17:40:58 -0400 (Sun, 12 Oct 2025) EndedAt: 2025-10-12 17:41:10 -0400 (Sun, 12 Oct 2025) EllapsedTime: 12.2 seconds RetCode: 1 Status: ERROR PackageFile: None PackageFileSize: NA